BEGIN:VCALENDAR
VERSION:2.0
PRODID:-//Kimp&#039;s Ace Hardware - ECPv6.15.20//NONSGML v1.0//EN
CALSCALE:GREGORIAN
METHOD:PUBLISH
X-WR-CALNAME:Kimp&#039;s Ace Hardware
X-ORIGINAL-URL:https://kimpshardware.com
X-WR-CALDESC:Events for Kimp&#039;s Ace Hardware
REFRESH-INTERVAL;VALUE=DURATION:PT1H
X-Robots-Tag:noindex
X-PUBLISHED-TTL:PT1H
BEGIN:VTIMEZONE
TZID:America/New_York
BEGIN:DAYLIGHT
TZOFFSETFROM:-0500
TZOFFSETTO:-0400
TZNAME:EDT
DTSTART:20250309T070000
END:DAYLIGHT
BEGIN:STANDARD
TZOFFSETFROM:-0400
TZOFFSETTO:-0500
TZNAME:EST
DTSTART:20251102T060000
END:STANDARD
BEGIN:DAYLIGHT
TZOFFSETFROM:-0500
TZOFFSETTO:-0400
TZNAME:EDT
DTSTART:20260308T070000
END:DAYLIGHT
BEGIN:STANDARD
TZOFFSETFROM:-0400
TZOFFSETTO:-0500
TZNAME:EST
DTSTART:20261101T060000
END:STANDARD
BEGIN:DAYLIGHT
TZOFFSETFROM:-0500
TZOFFSETTO:-0400
TZNAME:EDT
DTSTART:20270314T070000
END:DAYLIGHT
BEGIN:STANDARD
TZOFFSETFROM:-0400
TZOFFSETTO:-0500
TZNAME:EST
DTSTART:20271107T060000
END:STANDARD
END:VTIMEZONE
BEGIN:VEVENT
DTSTART;VALUE=DATE:20260508
DTEND;VALUE=DATE:20260511
DTSTAMP:20260425T064121
CREATED:20260408T153822Z
LAST-MODIFIED:20260408T154149Z
UID:736-1778198400-1778457599@kimpshardware.com
SUMMARY:Hometown Days - Mother's Day
DESCRIPTION:🌸 Mother’s Day Event\nMay 8 – May 10 \nCelebrate Mom with savings on garden\, décor\, and outdoor essentials. \nWhat to Expect: \n\n\n\n🌼 Seasonal garden deals (flowers\, planters\, lawn care)\n🎁 Free gift with purchase (while supplies last)\n⭐ Ace Rewards bonus offers (3X points + app deals)\n🪴 First 48 customers receive a free mini bucket
URL:https://kimpshardware.com/event/mothers-day-sale/
LOCATION:All Kimps Locations
CATEGORIES:Sale Event
ATTACH;FMTTYPE=image/jpeg:https://kimpshardware.com/wp-content/uploads/2026/04/5.jpg
END:VEVENT
BEGIN:VEVENT
DTSTART;VALUE=DATE:20260508
DTEND;VALUE=DATE:20260509
DTSTAMP:20260425T064121
CREATED:20260408T154756Z
LAST-MODIFIED:20260408T192707Z
UID:846-1778198400-1778284799@kimpshardware.com
SUMMARY:BREEO Live Demo Event
DESCRIPTION:🔥 Breeo Live Demo Event\nFriday\, May 8 \n📍 Kimps Ace Hardware – Wrightstown \nJoin us for a live demo with a Breeo rep showcasing their smokeless fire pits and live-fire cooking setups.
URL:https://kimpshardware.com/event/breeo-live-demo-event/
LOCATION:Wrightstown\, 540 County Road U\, Wrightstown\, WI\, 54180\, United States
CATEGORIES:Sale Event
ATTACH;FMTTYPE=image/jpeg:https://kimpshardware.com/wp-content/uploads/2026/04/2.jpg
END:VEVENT
BEGIN:VEVENT
DTSTART;VALUE=DATE:20260508
DTEND;VALUE=DATE:20260510
DTSTAMP:20260425T064121
CREATED:20260408T192450Z
LAST-MODIFIED:20260422T170956Z
UID:856-1778198400-1778371199@kimpshardware.com
SUMMARY:Milwaukee Outdoor Power Event
DESCRIPTION:Milwaukee Outdoor Power Event \nJoin us in May 8th and 9th for our Milwaukee Outdoor Power Event! Get hands-on with Milwaukee’s latest outdoor equipment and see what battery-powered performance can really do. \nMilwaukee reps will be on-site in ASH & WRG both days to demo tools\, answer questions\, and help you find the right equipment for your projects. From blowers and chainsaws to trimmers and more\, this lineup is built to handle everything from quick yard work to serious jobs. \nWhether you’re upgrading your current setup or just curious about Milwaukee’s outdoor power\, this is your chance to try it before you buy. \n👉 Stop in\, check out the demos\, and talk directly with the experts.
URL:https://kimpshardware.com/event/milwaukee-outdoor-power-event/
LOCATION:All Kimps Locations
CATEGORIES:Sale Event
ATTACH;FMTTYPE=image/webp:https://kimpshardware.com/wp-content/uploads/2026/02/Milwaukee_Logo.svg_.webp
END:VEVENT
BEGIN:VEVENT
DTSTART;TZID=America/New_York:20260509T110000
DTEND;TZID=America/New_York:20260509T130000
DTSTAMP:20260425T064121
CREATED:20260408T151219Z
LAST-MODIFIED:20260408T154906Z
UID:844-1778324400-1778331600@kimpshardware.com
SUMMARY:Bill & Rookie - THE FAN Radio Remote
DESCRIPTION:Saturday\, May 9 \n11:00 AM – 1:00 PM\n📍 Kimps Ace Hardware – Ashwaunenon \n🎙️ Live with Bill & Rookie from The Fan WDUZ \nCatch the show broadcasting right from our Ashwaubenon location—stop by\, tune in\, and be part of the action while you shop and hang out.
URL:https://kimpshardware.com/event/bill-rookie-the-fan-radio-remote/
LOCATION:Ashwaubenon\, 2110 S Ridge Rd\, Green Bay\, 54304\, United States
CATEGORIES:Sale Event
ATTACH;FMTTYPE=image/jpeg:https://kimpshardware.com/wp-content/uploads/2026/04/3.jpg
END:VEVENT
BEGIN:VEVENT
DTSTART;VALUE=DATE:20260522
DTEND;VALUE=DATE:20260526
DTSTAMP:20260425T064121
CREATED:20260408T153756Z
LAST-MODIFIED:20260408T155734Z
UID:836-1779408000-1779753599@kimpshardware.com
SUMMARY:Hometown Days - Memorial Day
DESCRIPTION:Memorial Day Event\nMay 22 – May 25 \nKick off summer with major savings on outdoor power and grilling. \nWhat to Expect: \n\n🔥 Deals on grills\, trimmers\, and blowers\n🛠️ Buy One Get One 50% off select items\n⭐ Earn 3X Ace Rewards points on qualifying purchases\n🎯 App-exclusive “Mystery Offers”
URL:https://kimpshardware.com/event/hometown-days-memorial-day/
LOCATION:All Kimps Locations
CATEGORIES:Sale Event
ATTACH;FMTTYPE=image/jpeg:https://kimpshardware.com/wp-content/uploads/2026/04/6.jpg
END:VEVENT
BEGIN:VEVENT
DTSTART;VALUE=DATE:20260619
DTEND;VALUE=DATE:20260622
DTSTAMP:20260425T064121
CREATED:20260408T153719Z
LAST-MODIFIED:20260408T153719Z
UID:838-1781827200-1782086399@kimpshardware.com
SUMMARY:Hometown Days - Father's Day
DESCRIPTION:🛠️ Father’s Day Event\nJune 19 – June 21 \nGear up Dad (or yourself 👀) with tools\, grills\, and exclusive offers. \nWhat to Expect: \n\n🪣 Father’s Day bucket deal ($5 bucket + discounts inside)\n🧰 20% off items that fit in the bucket\n🔥 Grill deals + bonus rewards points\n🎁 Free gift with qualifying purchase
URL:https://kimpshardware.com/event/hometown-days-fathers-day/
LOCATION:All Kimps Locations
CATEGORIES:Sale Event
ATTACH;FMTTYPE=image/jpeg:https://kimpshardware.com/wp-content/uploads/2026/04/7.jpg
END:VEVENT
BEGIN:VEVENT
DTSTART;VALUE=DATE:20260703
DTEND;VALUE=DATE:20260706
DTSTAMP:20260425T064121
CREATED:20260408T153625Z
LAST-MODIFIED:20260408T155944Z
UID:839-1783036800-1783295999@kimpshardware.com
SUMMARY:Hometown Days - 4th of July Event
DESCRIPTION:🎆 4th of July Event\nJuly 3 and July 5 \nWe are CLOSED for the 4th. \nCelebrate summer with red\, white\, and savings \nWhat to Expect: \n\n🔥 Major grill promotions (including Weber exclusives)\n🧊 Buy One Get One 50% off select summer essentials\n⭐ Earn 2X–3X Ace Rewards points\n🕯️ Free gift offers with qualifying purchases
URL:https://kimpshardware.com/event/hometown-days-fourth-of-july/
LOCATION:All Kimps Locations
CATEGORIES:Sale Event
ATTACH;FMTTYPE=image/jpeg:https://kimpshardware.com/wp-content/uploads/2026/04/8.jpg
END:VEVENT
BEGIN:VEVENT
DTSTART;TZID=America/New_York:20261003T080000
DTEND;TZID=America/New_York:20261003T160000
DTSTAMP:20260425T064121
CREATED:20260408T142251Z
LAST-MODIFIED:20260408T150643Z
UID:842-1791014400-1791043200@kimpshardware.com
SUMMARY:STIHL Demo Day
DESCRIPTION:🔥 STIHL Demo Day\nSaturday\, October 3 \n🛠️ Try It. Test It. Take It Home. \nGet hands-on with STIHL equipment and see the difference for yourself.
URL:https://kimpshardware.com/event/stihl-demo-day/
LOCATION:All Kimps Locations
CATEGORIES:Sale Event
ATTACH;FMTTYPE=image/jpeg:https://kimpshardware.com/wp-content/uploads/2026/04/Oct.-3rd.jpg
END:VEVENT
END:VCALENDAR